BEGIN:VCALENDAR
VERSION:2.0
PRODID:-//Real Estate in Kingman, AZ | Kingman Premier Properties - ECPv6.15.20//NONSGML v1.0//EN
CALSCALE:GREGORIAN
METHOD:PUBLISH
X-WR-CALNAME:Real Estate in Kingman, AZ | Kingman Premier Properties
X-ORIGINAL-URL:https://kingmanpremierproperties.com
X-WR-CALDESC:Events for Real Estate in Kingman, AZ | Kingman Premier Properties
REFRESH-INTERVAL;VALUE=DURATION:PT1H
X-Robots-Tag:noindex
X-PUBLISHED-TTL:PT1H
BEGIN:VTIMEZONE
TZID:America/Denver
BEGIN:DAYLIGHT
TZOFFSETFROM:-0700
TZOFFSETTO:-0600
TZNAME:MDT
DTSTART:20230312T090000
END:DAYLIGHT
BEGIN:STANDARD
TZOFFSETFROM:-0600
TZOFFSETTO:-0700
TZNAME:MST
DTSTART:20231105T080000
END:STANDARD
BEGIN:DAYLIGHT
TZOFFSETFROM:-0700
TZOFFSETTO:-0600
TZNAME:MDT
DTSTART:20240310T090000
END:DAYLIGHT
BEGIN:STANDARD
TZOFFSETFROM:-0600
TZOFFSETTO:-0700
TZNAME:MST
DTSTART:20241103T080000
END:STANDARD
BEGIN:DAYLIGHT
TZOFFSETFROM:-0700
TZOFFSETTO:-0600
TZNAME:MDT
DTSTART:20250309T090000
END:DAYLIGHT
BEGIN:STANDARD
TZOFFSETFROM:-0600
TZOFFSETTO:-0700
TZNAME:MST
DTSTART:20251102T080000
END:STANDARD
END:VTIMEZONE
BEGIN:VEVENT
DTSTART;VALUE=DATE:20241108
DTEND;VALUE=DATE:20241112
DTSTAMP:20260422T191420
CREATED:20240911T170448Z
LAST-MODIFIED:20240911T170448Z
UID:589-1731024000-1731369599@kingmanpremierproperties.com
SUMMARY:Rt 66 Ultra Run
DESCRIPTION:Runners will journey through iconic Americana along 140 miles of Historic Route 66 from Seligman to Topock66 Colorado River\, Arizona.\n\n\n\n\n\n\nA RACE THAT CELEBRATES HISTORY \nThe race recognizes and celebrates the history of the Mother Road\, from the Bunion Derbies; “Oakie’s” during the Dust Bowl; the boom years of family road trips after WWII; decline after the interstate system bypassed mom and-pop motels\, restaurants\, and shops; to grassroots resurgence leading to official recognition that Route 66 had “become a symbol of the American people’s heritage of travel and their legacy of seeking a better life.” \n\nCheck-in and the pre-race meeting will start Friday at 4PM in Seligman\, AZ\nThe race will be held Saturday 7AM through Monday at 7PM (60 hour cut-off) from Seligman to Topock66\, AZ\nThe not-to-be-missed Awards Banquet will be held Monday 6PM-10PM at Topock66 Colorado River\, AZ\n\nThat means\, for 2024\, pre-race activities will be on Friday\, November 8. \nThe race will be held Saturday\, November 9 through Monday\, November 11. \nThe Awards Banquet will be the evening of Monday\, November 11. \nSo\, you will want to arrive in Arizona no later than the morning of Friday\, Nov 8 and stay until Tuesday\, Nov 12. \nWhile our original intention was to always start the race on November 11 for various reasons\, we realized that asking participants to have to take an entire week off work some years is just not practical. We want the Route 66 UltraRun to be A Race for Everyone\, including all of you that need to be at work and/or at home with your families as much as possible during the week\, and allow runners\, crew\, and volunteers to limit the number of days off work. As your Race Directors\, we want to make the race work for Everyone.
URL:https://kingmanpremierproperties.com/event/rt-66-ultra-run/
END:VEVENT
END:VCALENDAR