BEGIN:VCALENDAR
VERSION:2.0
PRODID:-//Real Estate in Kingman, AZ | Kingman Premier Properties - ECPv6.15.20//NONSGML v1.0//EN
CALSCALE:GREGORIAN
METHOD:PUBLISH
X-WR-CALNAME:Real Estate in Kingman, AZ | Kingman Premier Properties
X-ORIGINAL-URL:https://kingmanpremierproperties.com
X-WR-CALDESC:Events for Real Estate in Kingman, AZ | Kingman Premier Properties
REFRESH-INTERVAL;VALUE=DURATION:PT1H
X-Robots-Tag:noindex
X-PUBLISHED-TTL:PT1H
BEGIN:VTIMEZONE
TZID:America/Denver
BEGIN:DAYLIGHT
TZOFFSETFROM:-0700
TZOFFSETTO:-0600
TZNAME:MDT
DTSTART:20230312T090000
END:DAYLIGHT
BEGIN:STANDARD
TZOFFSETFROM:-0600
TZOFFSETTO:-0700
TZNAME:MST
DTSTART:20231105T080000
END:STANDARD
BEGIN:DAYLIGHT
TZOFFSETFROM:-0700
TZOFFSETTO:-0600
TZNAME:MDT
DTSTART:20240310T090000
END:DAYLIGHT
BEGIN:STANDARD
TZOFFSETFROM:-0600
TZOFFSETTO:-0700
TZNAME:MST
DTSTART:20241103T080000
END:STANDARD
BEGIN:DAYLIGHT
TZOFFSETFROM:-0700
TZOFFSETTO:-0600
TZNAME:MDT
DTSTART:20250309T090000
END:DAYLIGHT
BEGIN:STANDARD
TZOFFSETFROM:-0600
TZOFFSETTO:-0700
TZNAME:MST
DTSTART:20251102T080000
END:STANDARD
END:VTIMEZONE
BEGIN:VEVENT
DTSTART;VALUE=DATE:20241004
DTEND;VALUE=DATE:20241006
DTSTAMP:20260423T055312
CREATED:20240911T164944Z
LAST-MODIFIED:20240911T164944Z
UID:578-1728000000-1728172799@kingmanpremierproperties.com
SUMMARY:16th Annual Brews and Brats Oktoberfest
DESCRIPTION:The 16th Annual Brews and Brats Oktoberfest\, presented by the Kingman Route 66 Rotary Club\, will take place at Metcalfe Park. Kingman’s original and longest running Oktoberfest\, the Brews and Brats Oktoberfest will feature craft beer from Black Bridge Brewery\, grilled bratwurst and sauerkraut\, German pretzels\, and other offerings. There will be live entertainment throughout the weekend\, dancing\, vendors\, and fun! Admission is always free\, and proceeds from this event go to the Kingman Route 66 Rotary Club’s Foundation\, a 501c-3 non-profit foundation which supports service projects in our community and internationally. \nFor more information\, contact Rt66rotaryforms@gmail.com. \nAt Metcalfe Park (315 W. Beale St.) in Downtown Kingman. \nFriday at 2:00pm until 10:00pm and Saturday 10:00am until 10:00pm. \nAdmission is free.
URL:https://kingmanpremierproperties.com/event/16th-annual-brews-and-brats-oktoberfest/
LOCATION:Metcalf Park\, 315 W. Beale St\, Kingman\, AZ\, 86401\, United States
END:VEVENT
BEGIN:VEVENT
DTSTART;TZID=America/Denver:20240928T080000
DTEND;TZID=America/Denver:20240929T170000
DTSTAMP:20260423T055312
CREATED:20240911T165809Z
LAST-MODIFIED:20240911T165809Z
UID:587-1727510400-1727629200@kingmanpremierproperties.com
SUMMARY:GCPRA Rodeo
DESCRIPTION:Two days of Pro-Rodeo action for the whole family to enjoy! \nCome and enjoy the upcoming GCPRA Rodeo located at the Mohave County Fairgrounds. \nThe Kingsmen again will keep the ticket prices low – \nAdults (17yrs – 64yrs) $15.00 \nVeterans (You will need to state your status at the gate for discounts) $12.00 \n7yrs to 16yrs $10.00 \nChildren (6yrs and younger) free \nI.D. may be required. \nThe “Kingsmen” are a group of local businessmen dedicated to the preservation of our area’s ranching and rodeo western heritage. \nFor more information contact: kingsmenrodeo@yahoo.com \nOr visit the Andy Devine Days Rodeo website at: https://kingsmenrodeo.org/ \n\n\n\n\n\n\n\nLocation\nMohave County Fairgrounds\n\n\n\n\nAddress\n2600 Fairgrounds Blvd\nKingman\, AZ 86401\n\n\n\n\nWebsite\nhttps://kingsmenrodeo.org/
URL:https://kingmanpremierproperties.com/event/gcpra-rodeo/
END:VEVENT
BEGIN:VEVENT
DTSTART;TZID=America/Denver:20240927T160000
DTEND;TZID=America/Denver:20240928T220000
DTSTAMP:20260423T055312
CREATED:20240911T163036Z
LAST-MODIFIED:20240911T163036Z
UID:572-1727452800-1727560800@kingmanpremierproperties.com
SUMMARY:The Kingman Rodeo
DESCRIPTION:
URL:https://kingmanpremierproperties.com/event/the-kingman-rodeo/
LOCATION:Mohave County Fairgrounds\, 2600 Fairgrounds Blvd\, Kingman\, Arizona\, 86401
END:VEVENT
BEGIN:VEVENT
DTSTART;TZID=America/Denver:20240921T150000
DTEND;TZID=America/Denver:20240921T180000
DTSTAMP:20260423T055312
CREATED:20240911T171012Z
LAST-MODIFIED:20240911T171012Z
UID:591-1726930800-1726941600@kingmanpremierproperties.com
SUMMARY:Chillin on Beale - Celebrating Rt 66
DESCRIPTION:Bring your car down for a fun time. Classics\, customs\, creatives\, motorcycles\, EVs\, you name it! Cruise on down to Beale Street for music\, good food\, and down-home Kingman atmosphere! \nFree and open to the public – vehicle spots open.
URL:https://kingmanpremierproperties.com/event/chillin-on-beale-celebrating-rt-66/
LOCATION:Beale St\, 200 beale St\, Kingman\, az\, 86401
END:VEVENT
END:VCALENDAR