BEGIN:VCALENDAR
VERSION:2.0
PRODID:-//Real Estate in Kingman, AZ | Kingman Premier Properties - ECPv6.15.20//NONSGML v1.0//EN
CALSCALE:GREGORIAN
METHOD:PUBLISH
X-WR-CALNAME:Real Estate in Kingman, AZ | Kingman Premier Properties
X-ORIGINAL-URL:https://kingmanpremierproperties.com
X-WR-CALDESC:Events for Real Estate in Kingman, AZ | Kingman Premier Properties
REFRESH-INTERVAL;VALUE=DURATION:PT1H
X-Robots-Tag:noindex
X-PUBLISHED-TTL:PT1H
BEGIN:VTIMEZONE
TZID:America/Denver
BEGIN:DAYLIGHT
TZOFFSETFROM:-0700
TZOFFSETTO:-0600
TZNAME:MDT
DTSTART:20230312T090000
END:DAYLIGHT
BEGIN:STANDARD
TZOFFSETFROM:-0600
TZOFFSETTO:-0700
TZNAME:MST
DTSTART:20231105T080000
END:STANDARD
BEGIN:DAYLIGHT
TZOFFSETFROM:-0700
TZOFFSETTO:-0600
TZNAME:MDT
DTSTART:20240310T090000
END:DAYLIGHT
BEGIN:STANDARD
TZOFFSETFROM:-0600
TZOFFSETTO:-0700
TZNAME:MST
DTSTART:20241103T080000
END:STANDARD
BEGIN:DAYLIGHT
TZOFFSETFROM:-0700
TZOFFSETTO:-0600
TZNAME:MDT
DTSTART:20250309T090000
END:DAYLIGHT
BEGIN:STANDARD
TZOFFSETFROM:-0600
TZOFFSETTO:-0700
TZNAME:MST
DTSTART:20251102T080000
END:STANDARD
BEGIN:DAYLIGHT
TZOFFSETFROM:-0700
TZOFFSETTO:-0600
TZNAME:MDT
DTSTART:20260308T090000
END:DAYLIGHT
BEGIN:STANDARD
TZOFFSETFROM:-0600
TZOFFSETTO:-0700
TZNAME:MST
DTSTART:20261101T080000
END:STANDARD
END:VTIMEZONE
BEGIN:VEVENT
DTSTART;VALUE=DATE:20250926
DTEND;VALUE=DATE:20250929
DTSTAMP:20260419T132510
CREATED:20250908T181457Z
LAST-MODIFIED:20250908T181457Z
UID:724-1758844800-1759103999@kingmanpremierproperties.com
SUMMARY:GCPRA Rodeo!!
DESCRIPTION:GCPRA Rodeo – September 2025\n\n\n\n\n \n\n\n\n\n\nTwo days of Pro-Rodeo action for the whole family to enjoy! Come and enjoy the upcoming GCPRA Rodeo located at the Mohave County Fairgrounds.\nThe Kingsmen again will keep the ticket prices low –\nAdults (17yrs – 64yrs) $15.00\nVeterans (You will need to state your status at the gate for discounts) $12.00\n7yrs to 16yrs $10.00\nChildren (6yrs and younger) free\nI.D. may be required.\nThe “Kingsmen” are a group of local businessmen dedicated to the preservation of our area’s ranching and rodeo western heritage.
URL:https://kingmanpremierproperties.com/event/gcpra-rodeo-2/
LOCATION:Mohave County Fairgrounds\, 2600 Fairgrounds Blvd\, Kingman\, Arizona\, 86401
END:VEVENT
BEGIN:VEVENT
DTSTART;VALUE=DATE:20250911
DTEND;VALUE=DATE:20250915
DTSTAMP:20260419T132510
CREATED:20250908T181235Z
LAST-MODIFIED:20250908T181235Z
UID:722-1757548800-1757894399@kingmanpremierproperties.com
SUMMARY:Mohave County Fair!!
DESCRIPTION:
URL:https://kingmanpremierproperties.com/event/mohave-county-fair/
LOCATION:Mohave County Fairgrounds\, 2600 Fairgrounds Blvd\, Kingman\, Arizona\, 86401
END:VEVENT
BEGIN:VEVENT
DTSTART;TZID=America/Denver:20250630T080000
DTEND;TZID=America/Denver:20250630T170000
DTSTAMP:20260419T132510
CREATED:20250630T162323Z
LAST-MODIFIED:20250630T162353Z
UID:702-1751270400-1751302800@kingmanpremierproperties.com
SUMMARY:MUD MANIA!
DESCRIPTION:
URL:https://kingmanpremierproperties.com/event/mud-mania/
END:VEVENT
BEGIN:VEVENT
DTSTART;TZID=America/Denver:20250630T080000
DTEND;TZID=America/Denver:20250630T170000
DTSTAMP:20260419T132510
CREATED:20250630T162139Z
LAST-MODIFIED:20250630T162139Z
UID:700-1751270400-1751302800@kingmanpremierproperties.com
SUMMARY:Kingman's 34th Annual 4th of July Fireworks Show
DESCRIPTION:Mohave Fairgrounds with festivities including live music\, food trucks\, and vendors\, the show begins at 9:15pm \n 
URL:https://kingmanpremierproperties.com/event/kingmans-34th-annual-4th-of-july-fireworks-show/
END:VEVENT
BEGIN:VEVENT
DTSTART;TZID=America/Denver:20250613T080000
DTEND;TZID=America/Denver:20250614T170000
DTSTAMP:20260419T132510
CREATED:20250421T194439Z
LAST-MODIFIED:20250421T194439Z
UID:689-1749801600-1749920400@kingmanpremierproperties.com
SUMMARY:Rhythm & Blues Festival
DESCRIPTION:CRAFTS\, FOOD AND FUN!\n\nLocation\nLewis Kingman Park\n\n\n\n\nAddress\n2201 E Andy Devine Ave\nKingman\, AZ 86401\n\n\n\n\n\n\n\nStarts\nJune 13\, 2025 at 04:00 PM\nJune 14\, 2025 at 10:00 AM\n\n\n\n\n\n\nEnds\nJune 13\, 2025 at 10:00 PM\nJune 14\, 2025 at 10:00 PM
URL:https://kingmanpremierproperties.com/event/rhythm-blues-festival/
END:VEVENT
BEGIN:VEVENT
DTSTART;TZID=America/Denver:20250517T170000
DTEND;TZID=America/Denver:20250517T170000
DTSTAMP:20260419T132510
CREATED:20250421T193802Z
LAST-MODIFIED:20250421T193802Z
UID:682-1747501200-1747501200@kingmanpremierproperties.com
SUMMARY:Pirates for Paws Presented by the Mohave County Animal Shelter
DESCRIPTION:Join us for a bountiful feat to benefit the Homeless Animals of Mohave County \nRaffles\, Auctions\, Costume Contest and More \nBeer Wine Cocktails \n 
URL:https://kingmanpremierproperties.com/event/pirates-for-paws-presented-by-the-mohave-county-animal-shelter/
LOCATION:Mohave County Fairgrounds\, 2600 Fairgrounds Blvd\, Kingman\, Arizona\, 86401
END:VEVENT
BEGIN:VEVENT
DTSTART;VALUE=DATE:20250510
DTEND;VALUE=DATE:20250511
DTSTAMP:20260419T132510
CREATED:20250421T193002Z
LAST-MODIFIED:20250421T193002Z
UID:676-1746835200-1746921599@kingmanpremierproperties.com
SUMMARY:Kingman Railroad Museum Model Train Show
DESCRIPTION:For model train enthusiasts of all levels.
URL:https://kingmanpremierproperties.com/event/kingman-railroad-museum-model-train-show/
LOCATION:College Park Church Community Center\, 1990 Jagerson Ave\, Kingman\, AZ\, 86409
END:VEVENT
BEGIN:VEVENT
DTSTART;TZID=America/Denver:20250503T173000
DTEND;TZID=America/Denver:20250503T220000
DTSTAMP:20260419T132510
CREATED:20250306T181504Z
LAST-MODIFIED:20250306T181504Z
UID:661-1746293400-1746309600@kingmanpremierproperties.com
SUMMARY:Annual Stick Pony Derby 2025 by the Kingman Chamber of Commerce
DESCRIPTION:🏇 Saddle Up for the Annual Stick Pony Derby! 🎩 \nGet ready for a night of high-energy fun\, fashion\, and friendly competition at the Annual Stick Pony Derby! Dust off your finest hats\, don your sharpest attire\, and join us for an unforgettable evening filled with delicious food\, exciting entertainment\, and thrilling stick pony races. \n🌟 Event Highlights:🎭 Derby Dapper Sports Coat Contest (Men Only) – Show off your style and compete for the title!🎩 Ladies’ Show-Stopping Derby Hat Contest – Flaunt your most fabulous hat and steal the spotlight!🎟️ Friendly Wagering – Place your bets and cheer on your favorite racers.🍽️ Great Food & Drinks – Savor a delightful selection of food and beverages.🎉 Unmatched Fun – A night of laughter\, camaraderie\, and derby excitement! \nDon’t miss out on this one-of-a-kind event! Grab your friends\, dress to impress\, and get ready to race\, cheer\, and celebrate in true derby fashion! 🏆🐎 \n📅 Date: Saturday\, May 3\, 2025📍 Location: 201 N. 4th St.\, Kingman\, AZ 86401🎟️ Tickets: $50 Members/ $60 Non-Members \nSecure your spot and join the excitement! See you at the Stick Pony Derby 2025! 🏇🎩
URL:https://kingmanpremierproperties.com/event/annual-stick-pony-derby-2025-by-the-kingman-chamber-of-commerce/
END:VEVENT
BEGIN:VEVENT
DTSTART;TZID=America/Denver:20250503T090000
DTEND;TZID=America/Denver:20250504T170000
DTSTAMP:20260419T132510
CREATED:20250421T194222Z
LAST-MODIFIED:20250421T194222Z
UID:687-1746262800-1746378000@kingmanpremierproperties.com
SUMMARY:Mohave Gemstones Rock and Gem Show
DESCRIPTION:Educational and art displays
URL:https://kingmanpremierproperties.com/event/mohave-gemstones-rock-and-gem-show/
LOCATION:Mohave County Fairgrounds\, 2600 Fairgrounds Blvd\, Kingman\, Arizona\, 86401
END:VEVENT
BEGIN:VEVENT
DTSTART;VALUE=DATE:20250503
DTEND;VALUE=DATE:20250506
DTSTAMP:20260419T132510
CREATED:20250217T170630Z
LAST-MODIFIED:20250217T170630Z
UID:632-1746230400-1746489599@kingmanpremierproperties.com
SUMMARY:Historic Rt 66 Fun Run
DESCRIPTION:More than 800 vehicles carrying thousands of friends will be joining the Historic Route 66 Association of Arizona on May 2\, 3\, & 4 for a weekend of adventure! Historic Route 66 Fun Run participants from across the globe will meet in Seligman to travel a 140-mile stretch of Route 66 with events planned in nearly every community along the way. The procession will conclude in Topock/Golden Shores with an awesome award ceremony to cap off the weekend. Saturday is the big event in downtown Kingman\, with over 800 classic cars on display on Route 66 & Beale St from 9am to 4pm.
URL:https://kingmanpremierproperties.com/event/historic-rt-66-fun-run/
END:VEVENT
BEGIN:VEVENT
DTSTART;TZID=America/Denver:20250427T090000
DTEND;TZID=America/Denver:20250427T170000
DTSTAMP:20260419T132511
CREATED:20250306T193122Z
LAST-MODIFIED:20250306T193122Z
UID:663-1745744400-1745773200@kingmanpremierproperties.com
SUMMARY:Grand Canyon West Mohave Day
DESCRIPTION:
URL:https://kingmanpremierproperties.com/event/grand-canyon-west-mohave-day/
END:VEVENT
BEGIN:VEVENT
DTSTART;TZID=America/Denver:20250426T080000
DTEND;TZID=America/Denver:20250426T170000
DTSTAMP:20260419T132511
CREATED:20250421T194051Z
LAST-MODIFIED:20250421T194051Z
UID:684-1745654400-1745686800@kingmanpremierproperties.com
SUMMARY:2nd Annual Hualapai Mt Park Replenish and Restore Run 5K 10K
DESCRIPTION:5 and 10K event\, walk or run\, which ever your preference \nEntry Fees help restore the park!
URL:https://kingmanpremierproperties.com/event/2nd-annual-hualapai-mt-park-replenish-and-restore-run-5k-10k/
LOCATION:Hualapai Mt Park\, 6250 Hualapai Mt. park Rd\, Kingman\, AZ\, 86401
END:VEVENT
BEGIN:VEVENT
DTSTART;TZID=America/Denver:20250418T000000
DTEND;TZID=America/Denver:20250420T000000
DTSTAMP:20260419T132511
CREATED:20250421T193201Z
LAST-MODIFIED:20250421T193201Z
UID:680-1744934400-1745107200@kingmanpremierproperties.com
SUMMARY:Spring Home and Garden Expo Fair
DESCRIPTION:Talk to some of the best home and garden experts in your area who will showcase their latest products and services for your home and landscaping projects. It will host more than 70 exhibitors offering furniture\, window and bath remodeling\, patio covers\, gardening\, artificial turf\, cookware\, tile and flooring solar\, and more. \nFriday noon to 6 \nSat 10-6 \nSun 10-3
URL:https://kingmanpremierproperties.com/event/spring-home-and-garden-expo-fair/
LOCATION:Mohave County Fairgrounds\, 2600 Fairgrounds Blvd\, Kingman\, Arizona\, 86401
END:VEVENT
BEGIN:VEVENT
DTSTART;TZID=America/Denver:20250418T000000
DTEND;TZID=America/Denver:20250420T000000
DTSTAMP:20260419T132511
CREATED:20250421T192436Z
LAST-MODIFIED:20250421T192436Z
UID:671-1744934400-1745107200@kingmanpremierproperties.com
SUMMARY:Spring Home & Garden Expo
DESCRIPTION:Talk to some of the best home and garden experts in your area who will showcase their latest products and services for your home and landscaping projects. It will host more than 70 exhibitors offering furniture\, window and bath remodeling\, patio covers\, gardening\, artificial turf\, cookware\, tile and flooring solar\, and more. \nFriday Noon-6 \nSat 10-6 \nSun  10-3 \nMohave County Fairgrounds 2600 Fairgrounds Ave\, Kingman Az
URL:https://kingmanpremierproperties.com/event/spring-home-garden-expo/
LOCATION:Mohave County Fairgrounds\, 2600 Fairgrounds Blvd\, Kingman\, Arizona\, 86401
END:VEVENT
BEGIN:VEVENT
DTSTART;TZID=America/Denver:20250405T110000
DTEND;TZID=America/Denver:20250405T180000
DTSTAMP:20260419T132511
CREATED:20250306T180037Z
LAST-MODIFIED:20250306T180037Z
UID:652-1743850800-1743876000@kingmanpremierproperties.com
SUMMARY:4th Annual STREET EATS
DESCRIPTION:Join us for our 4th annual Street Eats on 66 food truck event. On Saturday\, April 5th\, we will do our part to drive hunger out of Kingman! Stop by Lewis Kingman Park on Historic Route 66 and enjoy a variety of Food\, Live Music\, Face Painting\, Beer Garden and much more!\nAdmission is $5. Kids under 10 are FREE! 100% of the admission goes to local charities. \n\n\nLocation\nLewis Kingman Park\n\n\n\n\nAddress\n2201 E Andy Devine Ave\nKingman\, AZ 86401
URL:https://kingmanpremierproperties.com/event/4th-annual-street-eats/
END:VEVENT
BEGIN:VEVENT
DTSTART;TZID=America/Denver:20250405T080000
DTEND;TZID=America/Denver:20250406T170000
DTSTAMP:20260419T132511
CREATED:20250306T180201Z
LAST-MODIFIED:20250306T180201Z
UID:654-1743840000-1743958800@kingmanpremierproperties.com
SUMMARY:Kingman Gran Prix 2025
DESCRIPTION:Kingman Grand Prix – AZOP Racing\nThe Kingman Grand Prix\, organized by AZOP Racing\, is scheduled for Saturday\, April 5\, and Sunday\, April 6\, 2025\, at the Long Mountain Event Center in Kingman\, Arizona. This Grand Prix event\, the third round of the series\, welcomes motorcycles\, ATVs\, and UTVs\, offering two days of racing with points awarded each day. \nEvent Details:\n\nDate: April 5-6\, 2025\nLocation: Long Mountain Event Center\, Kingman\, AZ\nRegistration: Online registration is currently open for all vehicle categories and will close on Wednesday\, March 26\, 2025.\nFees: Entry fees vary by class\, starting from $25 for Stacyc classes up to $245 for Pro UTV classes.\nCamping: On-site camping is available for $30 per vehicle for the weekend.\n\nParticipants and attendees are advised to review the motorized vehicle policy for the camping and pit areas to ensure a safe and enjoyable experience for all. For detailed information on registration\, class fees\, and event policies\, please visit the official AZOP Racing event page.
URL:https://kingmanpremierproperties.com/event/kingman-gran-prix-2025/
END:VEVENT
BEGIN:VEVENT
DTSTART;TZID=America/Denver:20250404T080000
DTEND;TZID=America/Denver:20250404T170000
DTSTAMP:20260419T132511
CREATED:20250306T175825Z
LAST-MODIFIED:20250306T180510Z
UID:650-1743753600-1743786000@kingmanpremierproperties.com
SUMMARY:First Friday and Law Enforcement Torch Run
DESCRIPTION:Law Enforcement Torch Run for Special Olympics Arizona \nLive music\, specials\, roller skating\, games\, food trucks\, and vendors! Several shops will be open late. Located on Beale St & Andy Devine in historic Downtown Kingman.
URL:https://kingmanpremierproperties.com/event/first-friday-and/
END:VEVENT
BEGIN:VEVENT
DTSTART;TZID=America/Denver:20250330T100000
DTEND;TZID=America/Denver:20250330T140000
DTSTAMP:20260419T132511
CREATED:20250306T175623Z
LAST-MODIFIED:20250306T175649Z
UID:648-1743328800-1743343200@kingmanpremierproperties.com
SUMMARY:3rd Annual Mesquite Weekend
DESCRIPTION:At Mesquite Weekend you’ll eat native desert foods\, hear speakers on permaculture topics\, engage in a FREE seed exchange of seeds\, plants\, and trees\, and buy from local vendors. Bring the kids! We’ll have games for the family. Everyone is welcome.
URL:https://kingmanpremierproperties.com/event/3rd-annual-mesquite-weekend/
END:VEVENT
BEGIN:VEVENT
DTSTART;TZID=America/Denver:20250328T080000
DTEND;TZID=America/Denver:20250329T170000
DTSTAMP:20260419T132511
CREATED:20250306T180359Z
LAST-MODIFIED:20250306T180359Z
UID:656-1743148800-1743267600@kingmanpremierproperties.com
SUMMARY:The Beale Street Theater Presents CINDERELLA
DESCRIPTION:Experience the magic of Rodgers and Hammerstein’s \, a timeless tale brought to life on stage with enchanting music\, dazzling costumes\, and unforgettable characters. Follow Cinderella’s journey from a life of hardship to a dream come true\, as she discovers love\, courage\, and the power of believing in herself. \n\nStarts\nMarch 21\, 2025 at 07:00 PM\nMarch 22\, 2025 at 01:00 PM\nMarch 22\, 2025 at 07:00 PM\nMarch 28\, 2025 at 07:00 PM\n\nBeale Street Theater \n302 E. Beale Street
URL:https://kingmanpremierproperties.com/event/the-beale-street-theater-presents-cinderella/
END:VEVENT
BEGIN:VEVENT
DTSTART;TZID=America/Denver:20250321T190000
DTEND;TZID=America/Denver:20250328T000000
DTSTAMP:20260419T132511
CREATED:20250306T175139Z
LAST-MODIFIED:20250306T175227Z
UID:644-1742583600-1743120000@kingmanpremierproperties.com
SUMMARY:Beale Street Theater Presents CINDERELLA
DESCRIPTION:Experience the magic of Rodgers and Hammerstein’s Cinderella\, a timeless tale brought to life on stage with enchanting music\, dazzling costumes\, and unforgettable characters. Follow Cinderella’s journey from a life of hardship to a dream come true\, as she discovers love\, courage\, and the power of believing in herself. \n\nStarts\nMarch 21\, 2025 at 07:00 PM\nMarch 22\, 2025 at 01:00 PM\nMarch 22\, 2025 at 07:00 PM\nMarch 28\, 2025 at 07:00 PM\n\nBeale Street Theater \n302 E. Beale Street \nKingman
URL:https://kingmanpremierproperties.com/event/beale-street-theater-presents-cinderella/
END:VEVENT
BEGIN:VEVENT
DTSTART;TZID=America/Denver:20250321T120000
DTEND;TZID=America/Denver:20250323T170000
DTSTAMP:20260419T132511
CREATED:20250306T174842Z
LAST-MODIFIED:20250306T175258Z
UID:642-1742558400-1742749200@kingmanpremierproperties.com
SUMMARY:The Big Sandy Shoot Out
DESCRIPTION:Largest Machinegun Shoot in the World \nThe Big Sandy Shoot is a twice-a-year\, weekend of friends\, targets and gear in Arizona’s high\, western desert. With a quarter-mile-long firing range\, populated by hundreds of shooters\, The Big Sandy Shoot is the largest machinegun shoot in the United States. This NFA shooting range will test you\, your weapon and your sights. Held in Northwestern Arizona\, outside of Kingman\, and approximately 10 miles northeast of the town Wikieup\,  you can get some distance on your targets. Some targets fly the length of the range at high speeds\, and some explode. If you’re up to it\, please visit this uniquely American event. \nShooters: $400\nSpectators: $50 at the gate\nVendors: $175 \nOpens 8:30 on Sunday \nCan Spectators Shoot?\nYes! Spectators can rent time with a real live machinegun at the rental booth near the flag pole on the firing line. Available weapons vary from shoot to shoot\, but there will always be small subguns\, medium battle carbines\, 30 cal and 50 cal belt feds mounted on tripods. \nSpectators can also attend firearms classes which are live fire. 30 minute classes for sniping and tactical carbine for $30. Also one on one\, 60 minute classes for anything you wish to be taught such as combat pistol. The cost of the special one hour class is $60. You need to provide your own firearms and ammo.
URL:https://kingmanpremierproperties.com/event/the-big-sandy-shoot-out/
END:VEVENT
BEGIN:VEVENT
DTSTART;TZID=America/Denver:20241207T080000
DTEND;TZID=America/Denver:20241207T113000
DTSTAMP:20260419T132511
CREATED:20241118T163505Z
LAST-MODIFIED:20241118T163505Z
UID:619-1733558400-1733571000@kingmanpremierproperties.com
SUMMARY:Jingle all the Way with Santa
DESCRIPTION:
URL:https://kingmanpremierproperties.com/event/jingle-all-the-way-with-santa/
END:VEVENT
BEGIN:VEVENT
DTSTART;TZID=America/Denver:20241129T150000
DTEND;TZID=America/Denver:20241129T183000
DTSTAMP:20260419T132511
CREATED:20241118T162456Z
LAST-MODIFIED:20241118T162456Z
UID:613-1732892400-1732905000@kingmanpremierproperties.com
SUMMARY:Tree Lighting of Radar Hill
DESCRIPTION:
URL:https://kingmanpremierproperties.com/event/tree-lighting-of-radar-hill/
END:VEVENT
BEGIN:VEVENT
DTSTART;TZID=America/Denver:20241116T080000
DTEND;TZID=America/Denver:20241116T170000
DTSTAMP:20260419T132511
CREATED:20240911T171336Z
LAST-MODIFIED:20240911T171336Z
UID:598-1731744000-1731776400@kingmanpremierproperties.com
SUMMARY:Chillin' on Beale - Holiday Cruise
DESCRIPTION:Come check out the cool cars and bring a coat\, canned good or toy donation to help those in our community.
URL:https://kingmanpremierproperties.com/event/chillin-on-beale-holiday-cruise/
LOCATION:Beale St\, 200 beale St\, Kingman\, az\, 86401
END:VEVENT
BEGIN:VEVENT
DTSTART;VALUE=DATE:20241108
DTEND;VALUE=DATE:20241112
DTSTAMP:20260419T132511
CREATED:20240911T170448Z
LAST-MODIFIED:20240911T170448Z
UID:589-1731024000-1731369599@kingmanpremierproperties.com
SUMMARY:Rt 66 Ultra Run
DESCRIPTION:Runners will journey through iconic Americana along 140 miles of Historic Route 66 from Seligman to Topock66 Colorado River\, Arizona.\n\n\n\n\n\n\nA RACE THAT CELEBRATES HISTORY \nThe race recognizes and celebrates the history of the Mother Road\, from the Bunion Derbies; “Oakie’s” during the Dust Bowl; the boom years of family road trips after WWII; decline after the interstate system bypassed mom and-pop motels\, restaurants\, and shops; to grassroots resurgence leading to official recognition that Route 66 had “become a symbol of the American people’s heritage of travel and their legacy of seeking a better life.” \n\nCheck-in and the pre-race meeting will start Friday at 4PM in Seligman\, AZ\nThe race will be held Saturday 7AM through Monday at 7PM (60 hour cut-off) from Seligman to Topock66\, AZ\nThe not-to-be-missed Awards Banquet will be held Monday 6PM-10PM at Topock66 Colorado River\, AZ\n\nThat means\, for 2024\, pre-race activities will be on Friday\, November 8. \nThe race will be held Saturday\, November 9 through Monday\, November 11. \nThe Awards Banquet will be the evening of Monday\, November 11. \nSo\, you will want to arrive in Arizona no later than the morning of Friday\, Nov 8 and stay until Tuesday\, Nov 12. \nWhile our original intention was to always start the race on November 11 for various reasons\, we realized that asking participants to have to take an entire week off work some years is just not practical. We want the Route 66 UltraRun to be A Race for Everyone\, including all of you that need to be at work and/or at home with your families as much as possible during the week\, and allow runners\, crew\, and volunteers to limit the number of days off work. As your Race Directors\, we want to make the race work for Everyone.
URL:https://kingmanpremierproperties.com/event/rt-66-ultra-run/
END:VEVENT
BEGIN:VEVENT
DTSTART;TZID=America/Denver:20241031T170000
DTEND;TZID=America/Denver:20241031T200000
DTSTAMP:20260419T132511
CREATED:20240911T171212Z
LAST-MODIFIED:20240911T171212Z
UID:596-1730394000-1730404800@kingmanpremierproperties.com
SUMMARY:Chillin on Beale - Halloween Bash
DESCRIPTION:Bring the kids for trunk or treat
URL:https://kingmanpremierproperties.com/event/chillin-on-beale-halloween-bash/
END:VEVENT
BEGIN:VEVENT
DTSTART;TZID=America/Denver:20241025T180000
DTEND;TZID=America/Denver:20241026T230000
DTSTAMP:20260419T132511
CREATED:20240911T171700Z
LAST-MODIFIED:20240911T171700Z
UID:600-1729879200-1729983600@kingmanpremierproperties.com
SUMMARY:Annual Oatman Haunted Mine
DESCRIPTION:Haunted Mine is great for a good night of fright as you walk through a super scary haunted adventure. Trunk or Treat is great for all ages\nDetails:\n\nStart:\nOctober 25    6pm-11pm\nEnd:\nOctober 26     6pm- 11pm\nCost:\nFree\n\n\n\nOrganizer\n\n\nOatman Gold Road Chamber of Commerce\nPhone\n928-768-9139\nEmail\nOatmangoldroadchamber20@gmail.com\n\n\n\n\n\nVenue\n\n\nOatman Historic Ghost Town and Mining Camp\n\n\n\n\n\n\n\n Worldwide “Play Music On The Porch Day”
URL:https://kingmanpremierproperties.com/event/annual-oatman-haunted-mine/
END:VEVENT
BEGIN:VEVENT
DTSTART;TZID=America/Denver:20241019T140000
DTEND;TZID=America/Denver:20241019T200000
DTSTAMP:20260419T132511
CREATED:20240911T165620Z
LAST-MODIFIED:20240911T165620Z
UID:585-1729346400-1729368000@kingmanpremierproperties.com
SUMMARY:Annual Boos and Booze
DESCRIPTION:Food\, music\, prizes for best costumes. \n\n\n\n\n\n\n\nLocation\nCella Winery\n\n\n\n\nAddress\n6927 E Brooks Blvd\nKingman\, AZ 86401\n\n\n\n\n\n\n\nFacebook\nhttps://www.facebook.com/cellawinery\n\n\n\n\n\n\n\n\nStarts\nOctober 19\, 2024 at 02:00 PM\n\n\n\n\n\n\nEnds\nOctober 19\, 2024 at 08:00 PM
URL:https://kingmanpremierproperties.com/event/annual-boos-and-booze/
END:VEVENT
BEGIN:VEVENT
DTSTART;TZID=America/Denver:20241011T140000
DTEND;TZID=America/Denver:20241011T210000
DTSTAMP:20260419T132511
CREATED:20240711T205247Z
LAST-MODIFIED:20240711T205247Z
UID:546-1728655200-1728680400@kingmanpremierproperties.com
SUMMARY:Kingman Rt 66 Fest
DESCRIPTION:The Kingman Route 66 Fest celebrates all things Route 66\, especially the culture and history surrounding it\, and is hosted in beautiful Lewis Kingman Park\, a historic park that was one of Arizona’s few shady rest stops along the Mother Road. \nThe 4th Annual 66 Fest features: \nLive bands\nThe Queen of the Mother Road Pin Up Contest\nRoad Sign Graffiti Contest\nInteractive Cadillac Ranch Experience\nBeer garden serving regional craft beers\nFood & art vendors\nRoute 66 Classics Car Show\nVintage trailer show & camp-out\nRoute 66 displays\nKingman’s first & only zipline\nFun activity zones including inflatables & train rides\nPhotobooth\nThe Kingman Route 66 Fest is free for spectators and free public parking is available in the adjacent lot at the corner of Andy Devine (Route 66) and Fairgrounds Ave.
URL:https://kingmanpremierproperties.com/event/kingman-rt-66-fest/
LOCATION:Rt 66 Fest\, 2201 E. Andy Devine Ave\, Kingman\, AZ
END:VEVENT
BEGIN:VEVENT
DTSTART;VALUE=DATE:20241005
DTEND;VALUE=DATE:20241006
DTSTAMP:20260419T132511
CREATED:20240911T162228Z
LAST-MODIFIED:20240911T162228Z
UID:566-1728086400-1728172799@kingmanpremierproperties.com
SUMMARY:11th Annual Race to Remember
DESCRIPTION:Come join the 11th annual Race to Remember.  The race will support the Life Enrichment departments at all the facilities at the Lingenfelter Center to allow residents more opportunities to participate in activities to enrich their lives.  Sign up to Race or to sponsor or be a vendor
URL:https://kingmanpremierproperties.com/event/11th-annual-race-to-remember/
LOCATION:The Lingenfelter Center\, 1099 Sunrise Ave\, Kingman\, 86401\, United States
END:VEVENT
END:VCALENDAR