BEGIN:VCALENDAR
VERSION:2.0
PRODID:-//Real Estate in Kingman, AZ | Kingman Premier Properties - ECPv6.15.20//NONSGML v1.0//EN
CALSCALE:GREGORIAN
METHOD:PUBLISH
X-ORIGINAL-URL:https://kingmanpremierproperties.com
X-WR-CALDESC:Events for Real Estate in Kingman, AZ | Kingman Premier Properties
REFRESH-INTERVAL;VALUE=DURATION:PT1H
X-Robots-Tag:noindex
X-PUBLISHED-TTL:PT1H
BEGIN:VTIMEZONE
TZID:America/Denver
BEGIN:DAYLIGHT
TZOFFSETFROM:-0700
TZOFFSETTO:-0600
TZNAME:MDT
DTSTART:20240310T090000
END:DAYLIGHT
BEGIN:STANDARD
TZOFFSETFROM:-0600
TZOFFSETTO:-0700
TZNAME:MST
DTSTART:20241103T080000
END:STANDARD
BEGIN:DAYLIGHT
TZOFFSETFROM:-0700
TZOFFSETTO:-0600
TZNAME:MDT
DTSTART:20250309T090000
END:DAYLIGHT
BEGIN:STANDARD
TZOFFSETFROM:-0600
TZOFFSETTO:-0700
TZNAME:MST
DTSTART:20251102T080000
END:STANDARD
BEGIN:DAYLIGHT
TZOFFSETFROM:-0700
TZOFFSETTO:-0600
TZNAME:MDT
DTSTART:20260308T090000
END:DAYLIGHT
BEGIN:STANDARD
TZOFFSETFROM:-0600
TZOFFSETTO:-0700
TZNAME:MST
DTSTART:20261101T080000
END:STANDARD
END:VTIMEZONE
BEGIN:VEVENT
DTSTART;TZID=America/Denver:20250404T080000
DTEND;TZID=America/Denver:20250404T170000
DTSTAMP:20260422T231950
CREATED:20250306T175825Z
LAST-MODIFIED:20250306T180510Z
UID:650-1743753600-1743786000@kingmanpremierproperties.com
SUMMARY:First Friday and Law Enforcement Torch Run
DESCRIPTION:Law Enforcement Torch Run for Special Olympics Arizona \nLive music\, specials\, roller skating\, games\, food trucks\, and vendors! Several shops will be open late. Located on Beale St & Andy Devine in historic Downtown Kingman.
URL:https://kingmanpremierproperties.com/event/first-friday-and/
END:VEVENT
BEGIN:VEVENT
DTSTART;TZID=America/Denver:20250405T080000
DTEND;TZID=America/Denver:20250406T170000
DTSTAMP:20260422T231950
CREATED:20250306T180201Z
LAST-MODIFIED:20250306T180201Z
UID:654-1743840000-1743958800@kingmanpremierproperties.com
SUMMARY:Kingman Gran Prix 2025
DESCRIPTION:Kingman Grand Prix – AZOP Racing\nThe Kingman Grand Prix\, organized by AZOP Racing\, is scheduled for Saturday\, April 5\, and Sunday\, April 6\, 2025\, at the Long Mountain Event Center in Kingman\, Arizona. This Grand Prix event\, the third round of the series\, welcomes motorcycles\, ATVs\, and UTVs\, offering two days of racing with points awarded each day. \nEvent Details:\n\nDate: April 5-6\, 2025\nLocation: Long Mountain Event Center\, Kingman\, AZ\nRegistration: Online registration is currently open for all vehicle categories and will close on Wednesday\, March 26\, 2025.\nFees: Entry fees vary by class\, starting from $25 for Stacyc classes up to $245 for Pro UTV classes.\nCamping: On-site camping is available for $30 per vehicle for the weekend.\n\nParticipants and attendees are advised to review the motorized vehicle policy for the camping and pit areas to ensure a safe and enjoyable experience for all. For detailed information on registration\, class fees\, and event policies\, please visit the official AZOP Racing event page.
URL:https://kingmanpremierproperties.com/event/kingman-gran-prix-2025/
END:VEVENT
BEGIN:VEVENT
DTSTART;TZID=America/Denver:20250405T110000
DTEND;TZID=America/Denver:20250405T180000
DTSTAMP:20260422T231950
CREATED:20250306T180037Z
LAST-MODIFIED:20250306T180037Z
UID:652-1743850800-1743876000@kingmanpremierproperties.com
SUMMARY:4th Annual STREET EATS
DESCRIPTION:Join us for our 4th annual Street Eats on 66 food truck event. On Saturday\, April 5th\, we will do our part to drive hunger out of Kingman! Stop by Lewis Kingman Park on Historic Route 66 and enjoy a variety of Food\, Live Music\, Face Painting\, Beer Garden and much more!\nAdmission is $5. Kids under 10 are FREE! 100% of the admission goes to local charities. \n\n\nLocation\nLewis Kingman Park\n\n\n\n\nAddress\n2201 E Andy Devine Ave\nKingman\, AZ 86401
URL:https://kingmanpremierproperties.com/event/4th-annual-street-eats/
END:VEVENT
BEGIN:VEVENT
DTSTART;TZID=America/Denver:20250418T000000
DTEND;TZID=America/Denver:20250420T000000
DTSTAMP:20260422T231950
CREATED:20250421T192436Z
LAST-MODIFIED:20250421T192436Z
UID:671-1744934400-1745107200@kingmanpremierproperties.com
SUMMARY:Spring Home & Garden Expo
DESCRIPTION:Talk to some of the best home and garden experts in your area who will showcase their latest products and services for your home and landscaping projects. It will host more than 70 exhibitors offering furniture\, window and bath remodeling\, patio covers\, gardening\, artificial turf\, cookware\, tile and flooring solar\, and more. \nFriday Noon-6 \nSat 10-6 \nSun  10-3 \nMohave County Fairgrounds 2600 Fairgrounds Ave\, Kingman Az
URL:https://kingmanpremierproperties.com/event/spring-home-garden-expo/
LOCATION:Mohave County Fairgrounds\, 2600 Fairgrounds Blvd\, Kingman\, Arizona\, 86401
END:VEVENT
BEGIN:VEVENT
DTSTART;TZID=America/Denver:20250418T000000
DTEND;TZID=America/Denver:20250420T000000
DTSTAMP:20260422T231950
CREATED:20250421T193201Z
LAST-MODIFIED:20250421T193201Z
UID:680-1744934400-1745107200@kingmanpremierproperties.com
SUMMARY:Spring Home and Garden Expo Fair
DESCRIPTION:Talk to some of the best home and garden experts in your area who will showcase their latest products and services for your home and landscaping projects. It will host more than 70 exhibitors offering furniture\, window and bath remodeling\, patio covers\, gardening\, artificial turf\, cookware\, tile and flooring solar\, and more. \nFriday noon to 6 \nSat 10-6 \nSun 10-3
URL:https://kingmanpremierproperties.com/event/spring-home-and-garden-expo-fair/
LOCATION:Mohave County Fairgrounds\, 2600 Fairgrounds Blvd\, Kingman\, Arizona\, 86401
END:VEVENT
BEGIN:VEVENT
DTSTART;TZID=America/Denver:20250426T080000
DTEND;TZID=America/Denver:20250426T170000
DTSTAMP:20260422T231950
CREATED:20250421T194051Z
LAST-MODIFIED:20250421T194051Z
UID:684-1745654400-1745686800@kingmanpremierproperties.com
SUMMARY:2nd Annual Hualapai Mt Park Replenish and Restore Run 5K 10K
DESCRIPTION:5 and 10K event\, walk or run\, which ever your preference \nEntry Fees help restore the park!
URL:https://kingmanpremierproperties.com/event/2nd-annual-hualapai-mt-park-replenish-and-restore-run-5k-10k/
LOCATION:Hualapai Mt Park\, 6250 Hualapai Mt. park Rd\, Kingman\, AZ\, 86401
END:VEVENT
BEGIN:VEVENT
DTSTART;TZID=America/Denver:20250427T090000
DTEND;TZID=America/Denver:20250427T170000
DTSTAMP:20260422T231950
CREATED:20250306T193122Z
LAST-MODIFIED:20250306T193122Z
UID:663-1745744400-1745773200@kingmanpremierproperties.com
SUMMARY:Grand Canyon West Mohave Day
DESCRIPTION:
URL:https://kingmanpremierproperties.com/event/grand-canyon-west-mohave-day/
END:VEVENT
END:VCALENDAR