BEGIN:VCALENDAR
VERSION:2.0
PRODID:-//Real Estate in Kingman, AZ | Kingman Premier Properties - ECPv6.15.20//NONSGML v1.0//EN
CALSCALE:GREGORIAN
METHOD:PUBLISH
X-ORIGINAL-URL:https://kingmanpremierproperties.com
X-WR-CALDESC:Events for Real Estate in Kingman, AZ | Kingman Premier Properties
REFRESH-INTERVAL;VALUE=DURATION:PT1H
X-Robots-Tag:noindex
X-PUBLISHED-TTL:PT1H
BEGIN:VTIMEZONE
TZID:America/Denver
BEGIN:DAYLIGHT
TZOFFSETFROM:-0700
TZOFFSETTO:-0600
TZNAME:MDT
DTSTART:20240310T090000
END:DAYLIGHT
BEGIN:STANDARD
TZOFFSETFROM:-0600
TZOFFSETTO:-0700
TZNAME:MST
DTSTART:20241103T080000
END:STANDARD
BEGIN:DAYLIGHT
TZOFFSETFROM:-0700
TZOFFSETTO:-0600
TZNAME:MDT
DTSTART:20250309T090000
END:DAYLIGHT
BEGIN:STANDARD
TZOFFSETFROM:-0600
TZOFFSETTO:-0700
TZNAME:MST
DTSTART:20251102T080000
END:STANDARD
BEGIN:DAYLIGHT
TZOFFSETFROM:-0700
TZOFFSETTO:-0600
TZNAME:MDT
DTSTART:20260308T090000
END:DAYLIGHT
BEGIN:STANDARD
TZOFFSETFROM:-0600
TZOFFSETTO:-0700
TZNAME:MST
DTSTART:20261101T080000
END:STANDARD
END:VTIMEZONE
BEGIN:VEVENT
DTSTART;TZID=America/Denver:20251205T060000
DTEND;TZID=America/Denver:20251206T200000
DTSTAMP:20260423T080121
CREATED:20251111T210628Z
LAST-MODIFIED:20251111T210628Z
UID:743-1764914400-1765051200@kingmanpremierproperties.com
SUMMARY:The Polar Express Experience
DESCRIPTION:Location\n402 E Beale Street\n\n\n\n\nAddress\n402 E Beale Street\nKingman\, AZ 86401\n\n\n\n\nPhone\n\n\n928-530-8432
URL:https://kingmanpremierproperties.com/event/the-polar-express-experience/
END:VEVENT
BEGIN:VEVENT
DTSTART;TZID=America/Denver:20251205T090000
DTEND;TZID=America/Denver:20251205T143000
DTSTAMP:20260423T080121
CREATED:20251111T210924Z
LAST-MODIFIED:20251111T210924Z
UID:747-1764925200-1764945000@kingmanpremierproperties.com
SUMMARY:20th Annual Mohave County Craft Fair
DESCRIPTION:20th Annual Mohave County Craft Fair. Friday December 5th\, 9 am to 2:30 pm. 700 W Beale St\, Kingman AZ. Lots of homemade crafts from Crochet items\, 3D printed\, jewelry\, soaps and lotions\, yard art\, home décor\, floral arrangements\, ornaments and more!
URL:https://kingmanpremierproperties.com/event/20th-annual-mohave-county-craft-fair/
END:VEVENT
BEGIN:VEVENT
DTSTART;TZID=America/Denver:20251206T170000
DTEND;TZID=America/Denver:20251206T200000
DTSTAMP:20260423T080121
CREATED:20251111T210825Z
LAST-MODIFIED:20251111T210825Z
UID:745-1765040400-1765051200@kingmanpremierproperties.com
SUMMARY:A Very Merry Street of Lights
DESCRIPTION:The Very Merry Street of Lights features a stationary display of dozens of beautifully decorate floats and vehicles lined up on Beale Street in Historic Downtown Kingman. There will be music\, trackless train rides\, food trucks\, and the Mingle Jingle Christmas Bazaar in the Beale Celebrations Event Center. This year’s theme is Gingerbread Lane and is a walking event only!
URL:https://kingmanpremierproperties.com/event/a-very-merry-street-of-lights/
END:VEVENT
BEGIN:VEVENT
DTSTART;TZID=America/Denver:20251221T170000
DTEND;TZID=America/Denver:20251221T190000
DTSTAMP:20260423T080121
CREATED:20251111T211310Z
LAST-MODIFIED:20251111T211310Z
UID:751-1766336400-1766343600@kingmanpremierproperties.com
SUMMARY:Santa at the Kingman Railroad Museum
DESCRIPTION:Santa will be at the Kingman Railroad Museum! Bring the kids by to chat with Santa and view the model trains. Kids will receive a free gift\, while supplies last. The event is free although donations are gratefully accepted. \n\nAddress:\n           Railroad Museum\n402 E Andy Devine\nKingman\, AZ 86401
URL:https://kingmanpremierproperties.com/event/santa-at-the-kingman-railroad-museum/
END:VEVENT
BEGIN:VEVENT
DTSTART;TZID=America/Denver:20251230T080000
DTEND;TZID=America/Denver:20251230T170000
DTSTAMP:20260423T080121
CREATED:20251230T221405Z
LAST-MODIFIED:20251230T221405Z
UID:762-1767081600-1767114000@kingmanpremierproperties.com
SUMMARY:
DESCRIPTION:
URL:https://kingmanpremierproperties.com/event/762/
END:VEVENT
END:VCALENDAR